BEGIN:VCALENDAR
VERSION:2.0
PRODID:-//Lukas Senn - ECPv5.4.0.2//NONSGML v1.0//EN
CALSCALE:GREGORIAN
METHOD:PUBLISH
X-WR-CALNAME:Lukas Senn
X-ORIGINAL-URL:https://www.lukassenn.ch
X-WR-CALDESC:Veranstaltungen für Lukas Senn
BEGIN:VTIMEZONE
TZID:Europe/Zurich
BEGIN:DAYLIGHT
TZOFFSETFROM:+0100
TZOFFSETTO:+0200
TZNAME:CEST
DTSTART:20190331T010000
END:DAYLIGHT
BEGIN:STANDARD
TZOFFSETFROM:+0200
TZOFFSETTO:+0100
TZNAME:CET
DTSTART:20191027T010000
END:STANDARD
END:VTIMEZONE
BEGIN:VEVENT
DTSTART;TZID=Europe/Zurich:20190706T090000
DTEND;TZID=Europe/Zurich:20190707T170000
DTSTAMP:20260422T015543
CREATED:20190211T104403Z
LAST-MODIFIED:20190211T104614Z
UID:607-1562403600-1562518800@www.lukassenn.ch
SUMMARY:20. Kaktus-Chilbi bei Kakteen Gautschi Schafisheim
DESCRIPTION:An der Jubiläumsausgabe der legendären Kaktus-Chilbi darf ich Samstag und Sonntag meine Skulpturen ausstellen \nAm Sonntag 7. Juli gibt es zudem vier kurze Showsägen\nVerweilen Sie an der Chilbi und sehen sie zu\, wie schritt für schritt eine Skulptur entsteht \n  \n 
URL:https://www.lukassenn.ch/event/20-kaktus-chilbi-bei-kakteen-gautschi-schafisheim/
LOCATION:Kakteen Gautschi Schafisheim\, Wilstrasse 1\, Schafisheim\, 5503
ATTACH;FMTTYPE=image/jpeg:https://www.lukassenn.ch/wp-content/uploads/2019/02/Chilbi.jpg
END:VEVENT
END:VCALENDAR