BEGIN:VCALENDAR
VERSION:2.0
PRODID:-//Lukas Senn - ECPv5.4.0.2//NONSGML v1.0//EN
CALSCALE:GREGORIAN
METHOD:PUBLISH
X-WR-CALNAME:Lukas Senn
X-ORIGINAL-URL:https://www.lukassenn.ch
X-WR-CALDESC:Veranstaltungen für Lukas Senn
BEGIN:VTIMEZONE
TZID:Europe/Zurich
BEGIN:DAYLIGHT
TZOFFSETFROM:+0100
TZOFFSETTO:+0200
TZNAME:CEST
DTSTART:20220327T010000
END:DAYLIGHT
BEGIN:STANDARD
TZOFFSETFROM:+0200
TZOFFSETTO:+0100
TZNAME:CET
DTSTART:20221030T010000
END:STANDARD
END:VTIMEZONE
BEGIN:VEVENT
DTSTART;VALUE=DATE:20221126
DTEND;VALUE=DATE:20221204
DTSTAMP:20260423T204642
CREATED:20221026T085819Z
LAST-MODIFIED:20221026T085819Z
UID:870-1669420800-1670111999@www.lukassenn.ch
SUMMARY:Adventszauber Pfaffnau
DESCRIPTION:Noch auf der Suche nach einem exklusives Weihnachtsgeschenk? Dann kommen sie doch vorbei und sehen sie sich unser Angebot an Holzskulpturen an. \nGeniessen sie mit uns die schöne Stimmung am Adventszauber in Pfaffnau. \nWir freuen uns auf euch! \n 
URL:https://www.lukassenn.ch/event/adventszauber-pfaffnau/
LOCATION:Adventszauber\, Brüschhubel 2\, Pfaffnau\, 6264
CATEGORIES:Markt,Waldumgang
ATTACH;FMTTYPE=image/jpeg:https://www.lukassenn.ch/wp-content/uploads/2022/10/adventszauber.jpg
END:VEVENT
END:VCALENDAR