BEGIN:VCALENDAR
VERSION:2.0
PRODID:-//Lukas Senn - ECPv5.4.0.2//NONSGML v1.0//EN
CALSCALE:GREGORIAN
METHOD:PUBLISH
X-WR-CALNAME:Lukas Senn
X-ORIGINAL-URL:https://www.lukassenn.ch
X-WR-CALDESC:Veranstaltungen für Lukas Senn
BEGIN:VTIMEZONE
TZID:Europe/Zurich
BEGIN:DAYLIGHT
TZOFFSETFROM:+0100
TZOFFSETTO:+0200
TZNAME:CEST
DTSTART:20180325T010000
END:DAYLIGHT
BEGIN:STANDARD
TZOFFSETFROM:+0200
TZOFFSETTO:+0100
TZNAME:CET
DTSTART:20181028T010000
END:STANDARD
END:VTIMEZONE
BEGIN:VEVENT
DTSTART;VALUE=DATE:20180321
DTEND;VALUE=DATE:20180326
DTSTAMP:20260421T182222
CREATED:20180110T103303Z
LAST-MODIFIED:20180110T104822Z
UID:532-1521590400-1522022399@www.lukassenn.ch
SUMMARY:AMA 2018 - Schachen Aarau
DESCRIPTION:Mit Skulpturenausstellung und Schausägen bin ich auch im Jahr 2018 an der AMA anzutreffen. Ich freue mich darauf\, euch an meinem Stand im Buureland zu begrüssen.
URL:https://www.lukassenn.ch/event/ama-2018-im-schachen-aarau/
LOCATION:AMA\, Schachen\, Aarau\, 5000\, Schweiz
CATEGORIES:Messe
ATTACH;FMTTYPE=image/jpeg:https://www.lukassenn.ch/wp-content/uploads/2017/02/lukas-senn-schausaegen-aktion.jpg
END:VEVENT
END:VCALENDAR