BEGIN:VCALENDAR
VERSION:2.0
PRODID:-//Lukas Senn - ECPv5.4.0.2//NONSGML v1.0//EN
CALSCALE:GREGORIAN
METHOD:PUBLISH
X-WR-CALNAME:Lukas Senn
X-ORIGINAL-URL:https://www.lukassenn.ch
X-WR-CALDESC:Veranstaltungen für Lukas Senn
BEGIN:VTIMEZONE
TZID:Europe/Zurich
BEGIN:DAYLIGHT
TZOFFSETFROM:+0100
TZOFFSETTO:+0200
TZNAME:CEST
DTSTART:20200329T010000
END:DAYLIGHT
BEGIN:STANDARD
TZOFFSETFROM:+0200
TZOFFSETTO:+0100
TZNAME:CET
DTSTART:20201025T010000
END:STANDARD
END:VTIMEZONE
BEGIN:VEVENT
DTSTART;TZID=Europe/Zurich:20201106T190000
DTEND;TZID=Europe/Zurich:20201115T180000
DTSTAMP:20260424T093805
CREATED:20200704T135343Z
LAST-MODIFIED:20201028T070716Z
UID:694-1604689200-1605463200@www.lukassenn.ch
SUMMARY:Ausstellung ABGESAGT
DESCRIPTION:Die Ausstellung in Safenwil wurde leider Abgesagt! \n 
URL:https://www.lukassenn.ch/event/ausstellung-2/
LOCATION:Luterbächli 3\, 5745 Safenwil\, Luterbächli 3\, Safenwil\, 5745\, Schweiz
CATEGORIES:Ausstellung
ATTACH;FMTTYPE=image/jpeg:https://www.lukassenn.ch/wp-content/uploads/2020/07/Ausstellung-Safenwil-2020.1.jpg
END:VEVENT
END:VCALENDAR