BEGIN:VCALENDAR
VERSION:2.0
PRODID:-//Lukas Senn - ECPv5.4.0.2//NONSGML v1.0//EN
CALSCALE:GREGORIAN
METHOD:PUBLISH
X-WR-CALNAME:Lukas Senn
X-ORIGINAL-URL:https://www.lukassenn.ch
X-WR-CALDESC:Veranstaltungen für Lukas Senn
BEGIN:VTIMEZONE
TZID:Europe/Zurich
BEGIN:DAYLIGHT
TZOFFSETFROM:+0100
TZOFFSETTO:+0200
TZNAME:CEST
DTSTART:20210328T010000
END:DAYLIGHT
BEGIN:STANDARD
TZOFFSETFROM:+0200
TZOFFSETTO:+0100
TZNAME:CET
DTSTART:20211031T010000
END:STANDARD
END:VTIMEZONE
BEGIN:VEVENT
DTSTART;VALUE=DATE:20210910
DTEND;VALUE=DATE:20210920
DTSTAMP:20260424T044136
CREATED:20210811T130104Z
LAST-MODIFIED:20210811T130104Z
UID:773-1631232000-1632095999@www.lukassenn.ch
SUMMARY:Ausstellung und Showsägen in Safenwil
DESCRIPTION:
URL:https://www.lukassenn.ch/event/ausstellung-und-showsaegen-in-safenwil/
LOCATION:Luterbächli 3\, 5745 Safenwil\, Luterbächli 3\, Safenwil\, 5745\, Schweiz
CATEGORIES:Ausstellung
ATTACH;FMTTYPE=image/jpeg:https://www.lukassenn.ch/wp-content/uploads/2021/08/Ausstellung-Safenwil-2021-vorn.jpg
END:VEVENT
END:VCALENDAR