BEGIN:VCALENDAR
VERSION:2.0
PRODID:-//Lukas Senn - ECPv5.4.0.2//NONSGML v1.0//EN
CALSCALE:GREGORIAN
METHOD:PUBLISH
X-WR-CALNAME:Lukas Senn
X-ORIGINAL-URL:https://www.lukassenn.ch
X-WR-CALDESC:Veranstaltungen für Lukas Senn
BEGIN:VTIMEZONE
TZID:Europe/Zurich
BEGIN:DAYLIGHT
TZOFFSETFROM:+0100
TZOFFSETTO:+0200
TZNAME:CEST
DTSTART:20200329T010000
END:DAYLIGHT
BEGIN:STANDARD
TZOFFSETFROM:+0200
TZOFFSETTO:+0100
TZNAME:CET
DTSTART:20201025T010000
END:STANDARD
END:VTIMEZONE
BEGIN:VEVENT
DTSTART;TZID=Europe/Zurich:20200718T133000
DTEND;TZID=Europe/Zurich:20200718T170000
DTSTAMP:20260422T111751
CREATED:20200704T141407Z
LAST-MODIFIED:20200706T071134Z
UID:697-1595079000-1595091600@www.lukassenn.ch
SUMMARY:Führung durch den Skulpturenweg
DESCRIPTION:Skulpturenweg Schenkenbergertal\n„Unter der Fluh“ in Oberflachs \nEinladung zur traditionellen \nFührung durch den Skulpturenweg \nSamstag\, den 18. Juli 2020 \nBesammlung 13:30 Uhr beim Naturfreundehaus Gislifluh \n  \nEinweihung neuer Skulpturen\nDie Aussteller äussern sich zu ihren Werken.\nSilvio Beltrametti\, alias Märlin der Geschichtenerzähler\, interpretiert Sagen zu den Skulpturen. \nAusklang beim Jägerhaus  \nmit „Bräteln“ des Mitgebrachten. \n  \nAuskunft: Hans Etter\, 056 443 24 92 \n T. Lüscher\, D. Schwarz\, V. Zucchetti\, R. Wyss\, \n HR. Byland\, M. Perret\, L. Egger\, L. Senn
URL:https://www.lukassenn.ch/event/fuehrung-durch-den-skulpturenweg/
LOCATION:Naturfreundehaus Gislifluh\, 2651397.2/1253407.9\, 5108 Oberflachs\, 5108\, Schweiz
END:VEVENT
END:VCALENDAR