BEGIN:VCALENDAR
VERSION:2.0
PRODID:-//Lukas Senn - ECPv5.4.0.2//NONSGML v1.0//EN
CALSCALE:GREGORIAN
METHOD:PUBLISH
X-WR-CALNAME:Lukas Senn
X-ORIGINAL-URL:https://www.lukassenn.ch
X-WR-CALDESC:Veranstaltungen für Lukas Senn
BEGIN:VTIMEZONE
TZID:Europe/Zurich
BEGIN:DAYLIGHT
TZOFFSETFROM:+0100
TZOFFSETTO:+0200
TZNAME:CEST
DTSTART:20170326T010000
END:DAYLIGHT
BEGIN:STANDARD
TZOFFSETFROM:+0200
TZOFFSETTO:+0100
TZNAME:CET
DTSTART:20171029T010000
END:STANDARD
END:VTIMEZONE
BEGIN:VEVENT
DTSTART;TZID=Europe/Zurich:20170311T080000
DTEND;TZID=Europe/Zurich:20170318T180000
DTSTAMP:20260422T053520
CREATED:20170324T072838Z
LAST-MODIFIED:20170324T072838Z
UID:418-1489219200-1489860000@www.lukassenn.ch
SUMMARY:Ridgway Chainsaw Carvers Rendezvous
DESCRIPTION:Das Carvers Rendezvous in Ridgway\, Pennsylvania ist das wohl weltgrösste Treffen der Kettensägenschnitzer. Zusammen mit Norman Altermatt und Felix Kündig darf ich das SWISS CARVING TEAM bilden und die Schweiz an diesem gigantischen Anlass in den USA vertreten.
URL:https://www.lukassenn.ch/event/ridgway-chainsaw-carvers-rendezvous/
CATEGORIES:Wettkampf
ATTACH;FMTTYPE=image/jpeg:https://www.lukassenn.ch/wp-content/uploads/2017/03/carvers-rendezvous-ridgway-2017.jpg
END:VEVENT
END:VCALENDAR