BEGIN:VCALENDAR
VERSION:2.0
PRODID:-//Lukas Senn - ECPv5.4.0.2//NONSGML v1.0//EN
CALSCALE:GREGORIAN
METHOD:PUBLISH
X-WR-CALNAME:Lukas Senn
X-ORIGINAL-URL:https://www.lukassenn.ch
X-WR-CALDESC:Veranstaltungen für Lukas Senn
BEGIN:VTIMEZONE
TZID:Europe/Zurich
BEGIN:DAYLIGHT
TZOFFSETFROM:+0100
TZOFFSETTO:+0200
TZNAME:CEST
DTSTART:20200329T010000
END:DAYLIGHT
BEGIN:STANDARD
TZOFFSETFROM:+0200
TZOFFSETTO:+0100
TZNAME:CET
DTSTART:20201025T010000
END:STANDARD
END:VTIMEZONE
BEGIN:VEVENT
DTSTART;TZID=Europe/Zurich:20200829T101500
DTEND;TZID=Europe/Zurich:20200829T140000
DTSTAMP:20260424T115808
CREATED:20200704T134415Z
LAST-MODIFIED:20200805T093212Z
UID:691-1598696100-1598709600@www.lukassenn.ch
SUMMARY:Showsägen 50 Jahre EO Einkaufszentrum Oftringen
DESCRIPTION:Sehen sie zu wie eine Skulptur entsteht! Im Rahmen des 50 Jahre EO Jubiläums darf ich meine Showsägekünste präsentieren. Kommen sie gerne vorbei beim EO Einkaufszentrum Oftringen!
URL:https://www.lukassenn.ch/event/showsaegen-50-jahre-eo-einkaufszentrum-oftringen/
LOCATION:EO Einkaufszentrum Oftringen\, Zürichstrasse 2\, 4665 Oftringen\, Schweiz
CATEGORIES:Fest
ATTACH;FMTTYPE=image/png:https://www.lukassenn.ch/wp-content/uploads/2020/07/Screen-Shot-zur-Kontrolle-2020-07-24-um-11.28.3620676.png
END:VEVENT
END:VCALENDAR