BEGIN:VCALENDAR
VERSION:2.0
PRODID:-//Lukas Senn - ECPv5.4.0.2//NONSGML v1.0//EN
CALSCALE:GREGORIAN
METHOD:PUBLISH
X-WR-CALNAME:Lukas Senn
X-ORIGINAL-URL:https://www.lukassenn.ch
X-WR-CALDESC:Veranstaltungen für Lukas Senn
BEGIN:VTIMEZONE
TZID:Europe/Zurich
BEGIN:DAYLIGHT
TZOFFSETFROM:+0100
TZOFFSETTO:+0200
TZNAME:CEST
DTSTART:20230326T010000
END:DAYLIGHT
BEGIN:STANDARD
TZOFFSETFROM:+0200
TZOFFSETTO:+0100
TZNAME:CET
DTSTART:20231029T010000
END:STANDARD
END:VTIMEZONE
BEGIN:VEVENT
DTSTART;VALUE=DATE:20230624
DTEND;VALUE=DATE:20230626
DTSTAMP:20260423T133639
CREATED:20230603T202348Z
LAST-MODIFIED:20230603T202348Z
UID:907-1687564800-1687737599@www.lukassenn.ch
SUMMARY:Showsägen bei den Musiktagen Rothrist
DESCRIPTION:Kommt vorbei und geniesst Musik oder Motorsägelärm 🙂 \n  \nShowsägen an den Musiktagen Rothrist gibt es zu folgenden Zeiten: \nSamstag 24. Juni um 10:00 Uhr\, 13:45 Uhr\, 16:45 Uhr \nSonntag 25. Juni um 13:45 Uhr und 16:45 Uhr \n  \nDauer der Shows jeweils ca 30 Minuten
URL:https://www.lukassenn.ch/event/showsaegen-bei-den-musiktagen-rothrist/
LOCATION:Dörfli Rothrist\, Geisshubelweg 4\, Rothrist\, 4852\, Schweiz
CATEGORIES:Ausstellung,Fest,Showsägen
ATTACH;FMTTYPE=image/jpeg:https://www.lukassenn.ch/wp-content/uploads/2023/06/Unbenannt.jpg
END:VEVENT
END:VCALENDAR