BEGIN:VCALENDAR
VERSION:2.0
PRODID:-//Lukas Senn - ECPv5.4.0.2//NONSGML v1.0//EN
CALSCALE:GREGORIAN
METHOD:PUBLISH
X-WR-CALNAME:Lukas Senn
X-ORIGINAL-URL:https://www.lukassenn.ch
X-WR-CALDESC:Veranstaltungen für Lukas Senn
BEGIN:VTIMEZONE
TZID:Europe/Zurich
BEGIN:DAYLIGHT
TZOFFSETFROM:+0100
TZOFFSETTO:+0200
TZNAME:CEST
DTSTART:20220327T010000
END:DAYLIGHT
BEGIN:STANDARD
TZOFFSETFROM:+0200
TZOFFSETTO:+0100
TZNAME:CET
DTSTART:20221030T010000
END:STANDARD
END:VTIMEZONE
BEGIN:VEVENT
DTSTART;VALUE=DATE:20220819
DTEND;VALUE=DATE:20220822
DTSTAMP:20260423T231902
CREATED:20220804T125003Z
LAST-MODIFIED:20220804T125003Z
UID:845-1660867200-1661126399@www.lukassenn.ch
SUMMARY:Wald ganz nah erleben
DESCRIPTION:Gleich an 3 Tagen in Folge könnt ihr mir bei der Arbeit zusehen.\n\nAm Freitag zwischen 13:30-18:30 Uhr\nAm Samstag beim Holzskulptur Wettbewerb von 10-12 Uhr und 13-17 Uhr\nAm Sonntag mit dem Speedcarvingteam Schweiz jeweils zwischen 10:30-11:15 Uhr und 15:00-15:45 Uhr\n\n\n\n\n\n\n\n\n\n\n\n\n\n\n\n\n\n\n\n\n\n\n\n\n\nDetaillierte Programminformationen findet man auf der Website des Veranstalters.\n\nIch freue mich auf zahlreiche Bekannte und noch unbekannte Gesichter!\n\nBis bald im Wald!
URL:https://www.lukassenn.ch/event/wald-ganz-nah-erleben/
LOCATION:Waldfest\, Eppenbergstrasse 28\, Unterentfelden\, 5035\, Schweiz
CATEGORIES:Fest,Waldumgang,Wettkampf
ATTACH;FMTTYPE=image/jpeg:https://www.lukassenn.ch/wp-content/uploads/2017/03/lukas-senn-motorsaege-wald-2.jpg
END:VEVENT
END:VCALENDAR