BEGIN:VCALENDAR
VERSION:2.0
PRODID:-//Lukas Senn - ECPv5.4.0.2//NONSGML v1.0//EN
CALSCALE:GREGORIAN
METHOD:PUBLISH
X-WR-CALNAME:Lukas Senn
X-ORIGINAL-URL:https://www.lukassenn.ch
X-WR-CALDESC:Veranstaltungen für Lukas Senn
BEGIN:VTIMEZONE
TZID:Europe/Zurich
BEGIN:DAYLIGHT
TZOFFSETFROM:+0100
TZOFFSETTO:+0200
TZNAME:CEST
DTSTART:20220327T010000
END:DAYLIGHT
BEGIN:STANDARD
TZOFFSETFROM:+0200
TZOFFSETTO:+0100
TZNAME:CET
DTSTART:20221030T010000
END:STANDARD
END:VTIMEZONE
BEGIN:VEVENT
DTSTART;TZID=Europe/Zurich:20221217T133000
DTEND;TZID=Europe/Zurich:20221217T150000
DTSTAMP:20260423T192334
CREATED:20211202T102522Z
LAST-MODIFIED:20221102T094348Z
UID:794-1671283800-1671289200@www.lukassenn.ch
SUMMARY:Holzskulpturen und Weihnachtsbaumverkauf Rupperswil
DESCRIPTION:Noch auf der Suche nach einem exklusiven Weihnachtsgeschenk? \nBereits zum fünften Mal bin ich mit einer Skulpturenauswahl beim Weihnachtsbaumverkauf in Rupperswil mit dabei. \nSchaut doch vorbei! \nWir freuen uns auf euch! \n 
URL:https://www.lukassenn.ch/event/weihnachtsbaumverkauf-rupperswil-3/
LOCATION:Forstamt Rupperswil\, Forstgebäude\, Rupperswil\, 5102\, Schweiz
ATTACH;FMTTYPE=image/jpeg:https://www.lukassenn.ch/wp-content/uploads/2019/12/20181220_155456-e1576662090294.jpg
END:VEVENT
END:VCALENDAR