BEGIN:VCALENDAR
VERSION:2.0
PRODID:-//Lukas Senn - ECPv5.4.0.2//NONSGML v1.0//EN
CALSCALE:GREGORIAN
METHOD:PUBLISH
X-WR-CALNAME:Lukas Senn
X-ORIGINAL-URL:https://www.lukassenn.ch
X-WR-CALDESC:Veranstaltungen für Lukas Senn
BEGIN:VTIMEZONE
TZID:Europe/Zurich
BEGIN:DAYLIGHT
TZOFFSETFROM:+0100
TZOFFSETTO:+0200
TZNAME:CEST
DTSTART:20190331T010000
END:DAYLIGHT
BEGIN:STANDARD
TZOFFSETFROM:+0200
TZOFFSETTO:+0100
TZNAME:CET
DTSTART:20191027T010000
END:STANDARD
END:VTIMEZONE
BEGIN:VEVENT
DTSTART;TZID=Europe/Zurich:20191221T133000
DTEND;TZID=Europe/Zurich:20191221T150000
DTSTAMP:20260422T050144
CREATED:20191218T094458Z
LAST-MODIFIED:20191218T095044Z
UID:662-1576935000-1576940400@www.lukassenn.ch
SUMMARY:Weihnachtsbaumverkauf Rupperswil
DESCRIPTION:Noch auf der Suche nach einem exklusiven Weihnachtsgeschenk? \nBereits zum zweiten Mal bin ich mit einer Skulpturenauswahl beim Weihnachtsbaumverkauf in Rupperswil mit dabei. \nSchaut doch vorbei und geniesst einen Glühwein!
URL:https://www.lukassenn.ch/event/weihnachtsbaumverkauf-rupperswil/
LOCATION:Forstamt Rupperswil (hinter dem Waldhaus)\, Parkplatz Fussballplatz\, Rupperswil\, 5102\, Schweiz
ATTACH;FMTTYPE=image/jpeg:https://www.lukassenn.ch/wp-content/uploads/2019/12/20181220_155456-e1576662090294.jpg
END:VEVENT
END:VCALENDAR