BEGIN:VCALENDAR
VERSION:2.0
PRODID:-//Lukas Senn - ECPv5.4.0.2//NONSGML v1.0//EN
CALSCALE:GREGORIAN
METHOD:PUBLISH
X-WR-CALNAME:Lukas Senn
X-ORIGINAL-URL:https://www.lukassenn.ch
X-WR-CALDESC:Veranstaltungen für Lukas Senn
BEGIN:VTIMEZONE
TZID:Europe/Zurich
BEGIN:DAYLIGHT
TZOFFSETFROM:+0100
TZOFFSETTO:+0200
TZNAME:CEST
DTSTART:20170326T010000
END:DAYLIGHT
BEGIN:STANDARD
TZOFFSETFROM:+0200
TZOFFSETTO:+0100
TZNAME:CET
DTSTART:20171029T010000
END:STANDARD
END:VTIMEZONE
BEGIN:VEVENT
DTSTART;TZID=Europe/Zurich:20170818T200000
DTEND;TZID=Europe/Zurich:20170819T235900
DTSTAMP:20260421T195738
CREATED:20170627T103356Z
LAST-MODIFIED:20170627T114848Z
UID:503-1503086400-1503187140@www.lukassenn.ch
SUMMARY:Wildsauparty
DESCRIPTION:Am Samstag 19. August werde ich an der saumässigen Party im Wald etwas wildes sägen. Ich freue mich auf viele Zuschauer!
URL:https://www.lukassenn.ch/event/wildsauparty/
LOCATION:Märwil\, Märwil\, TG\, 9562\, Schweiz
CATEGORIES:Fest
ATTACH;FMTTYPE=image/jpeg:https://www.lukassenn.ch/wp-content/uploads/2017/06/Wildsauparty-Banner.jpg
END:VEVENT
END:VCALENDAR